Workbook

Sheet 站点名单
A1: 附件
A2: 2023年度上海市福利彩票优秀站点名单
A3: 序号 | B3: 所获奖项 | C3: 所属区 | D3: 站点编号 | E3: 地址
A4: 1 | B4: 优秀旗舰店 | C4: 静安 | D4: 31020176 | E4: 大宁国际商业广场10号亭
A5: 2 | B5: 优秀旗舰店 | C5: 浦东 | D5: 31090909 | E5: 沪南公路3449号（周浦万达广场）
A6: 3 | B6: 优秀旗舰店 | C6: 浦东 | D6: 31090932 | E6: 浦东新区鸿音路2555号（临港万达）
A7: 4 | B7: 优秀旗舰店 | C7: 松江 | D7: 31130330 | E7: 中山中路79弄30号一楼1F-1
A8: 5 | B8: 优秀旗舰店 | C8: 奉贤 | D8: 31150269 | E8: 南行港路388号龙湖天街3F-24
A9: 6 | B9: 优秀站点 | C9: 黄浦 | D9: 31010143 | E9: =VLOOKUP(D9,Sheet1!B:C,2,FALSE) -> 南京路步行街11号亭
A10: 7 | B10: 优秀站点 | C10: 黄浦 | D10: 31010152 | E10: =VLOOKUP(D10,Sheet1!B:C,2,FALSE) -> 福建中路389号
A11: 8 | B11: 优秀站点 | C11: 静安 | D11: 31020068 | E11: =VLOOKUP(D11,Sheet1!B:C,2,FALSE) -> 静安区余姚路108号
A12: 9 | B12: 优秀站点 | C12: 静安 | D12: 31020184 | E12: =VLOOKUP(D12,Sheet1!B:C,2,FALSE) -> 七浦路368号1A28
A13: 10 | B13: 优秀站点 | C13: 静安 | D13: 31020200 | E13: =VLOOKUP(D13,Sheet1!B:C,2,FALSE) -> 芷江中路365号
A14: 11 | B14: 优秀站点 | C14: 徐汇 | D14: 31030076 | E14: =VLOOKUP(D14,Sheet1!B:C,2,FALSE) -> 天钥桥路166号
A15: 12 | B15: 优秀站点 | C15: 徐汇 | D15: 31030080 | E15: =VLOOKUP(D15,Sheet1!B:C,2,FALSE) -> 小木桥路374-3号
A16: 13 | B16: 优秀站点 | C16: 徐汇 | D16: 31030241 | E16: =VLOOKUP(D16,Sheet1!B:C,2,FALSE) -> 宜山路408弄17号104室
A17: 14 | B17: 优秀站点 | C17: 长宁 | D17: 31040012 | E17: =VLOOKUP(D17,Sheet1!B:C,2,FALSE) -> 虹桥路1010号
A18: 15 | B18: 优秀站点 | C18: 长宁 | D18: 31040154 | E18: =VLOOKUP(D18,Sheet1!B:C,2,FALSE) -> 福泉路128号
A19: 16 | B19: 优秀站点 | C19: 长宁 | D19: 31040177 | E19: =VLOOKUP(D19,Sheet1!B:C,2,FALSE) -> 长宁路1018号龙之梦购物中心7楼
A20: 17 | B20: 优秀站点 | C20: 普陀 | D20: 31050123 | E20: =VLOOKUP(D20,Sheet1!B:C,2,FALSE) -> 曹杨路1115号
... A157: 154 | B157: 快乐8销售之星 | C157: 崇明 | D157: 31170048 | E157: =VLOOKUP(D157,Sheet1!B:C,2,FALSE) -> 堡镇中路315号102-2室

Sheet Sheet1 (2)
A1: 4 | B1: 刮刮乐销售之星 | C1: 黄浦 | D1: 31010143 | E1: 中国工商银行杨浦逸仙路支行
A2: 6 | B2: 刮刮乐销售之星 | C2: 静安 | D2: 31020032 | E2: 中国农业银行威海路支行
A3: 7 | B3: 刮刮乐销售之星 | C3: 静安 | D3: 31020042 | E3: 工商银行第二营业部营业厅
A4: 5 | B4: 刮刮乐销售之星 | C4: 徐汇 | D4: 31030195 | E4: 建设银行襄阳南路支行
A5: 4 | B5: 刮刮乐销售之星 | C5: 长宁 | D5: 31040177 | E5: 中国工商银行徐汇淮海中路第二支行
A6: 5 | B6: 刮刮乐销售之星 | C6: 普陀 | D6: 31050232 | E6: 中国工商银行宝山支行营业厅
A7: 6 | B7: 刮刮乐销售之星 | C7: 虹口 | D7: 31070277 | E7: 虹口四平支行
A8: 6 | B8: 刮刮乐销售之星 | C8: 杨浦 | D8: 31080274 | E8: 上海浦东发展银行金桥支行
A9: 29 | B9: 刮刮乐销售之星 | C9: 浦东 | D9: 31090114 | E9: 中国工商银行崂山路支行
A10: 26 | B10: 刮刮乐销售之星 | C10: 浦东 | D10: 31090220 | E10: 中国农业银行上海康桥支行
A11: 27 | B11: 刮刮乐销售之星 | C11: 浦东 | D11: 31090233 | E11: 华夏银行上海徐汇支行
A12: 30 | B12: 刮刮乐销售之星 | C12: 浦东 | D12: 31090450 | E12: 中国农业银行上海周浦镇支行
... A138: 3 | B138: 优秀站点 | C138: 金山 | D138: 31140194 | E138: 工商银行营业部营业厅
A139: 4 | B139: 优秀站点 | C139: 奉贤 | D139: 31150003 | E139: 中国建设银行奉城支行 | F139: 优秀站点
A140: 5 | B140: 优秀站点 | C140: 奉贤 | D140: 31150024 | E140: 中国建设银行城南路支行 | F140: 快乐8销售之星
A141: 2 | B141: 优秀站点 | C141: 奉贤 | D141: 31150043 | E141: 中国工商银行第二营业部营业厅
A142: 6 | B142: 优秀站点 | C142: 奉贤 | D142: 31150045 | E142: 中国工商银行第二营业部营业厅 | F142: 刮刮乐销售之星
A143: 3 | B143: 优秀站点 | C143: 奉贤 | D143: 31150138 | E143: 中国工商银行第二营业部营业厅 | F143: 优秀旗舰店
A144: 7 | B144: 优秀站点 | C144: 奉贤 | D144: 31150162 | E144: 中国建设银行南汇支行
A145: 6 | B145: 优秀站点 | C145: 青浦 | D145: 31160022 | E145: 中国工商银行浦东第二营业部营业厅
A146: 1 | B146: 优秀站点 | C146: 青浦 | D146: 31160026 | E146: 中国农业银行徐泾支行
A147: 2 | B147: 优秀站点 | C147: 青浦 | D147: 31160124 | E147: 中国农业银行凤溪支行
A148: 3 | B148: 优秀站点 | C148: 青浦 | D148: 31160189 | E148: 中国工商银行长三角一体化示范区支行营业厅
A149: 5 | B149: 优秀站点 | C149: 青浦 | D149: 31160190 | E149: 中国农业银行大盈支行
A150: 4 | B150: 优秀站点 | C150: 青浦 | D150: 31160204 | E150: 中国工商银行四平路支行
A151: 2 | B151: 优秀站点 | C151: 崇明 | D151: 31170018 | E151: 工行上海崇明陈家镇支行
A152: 4 | B152: 优秀站点 | C152: 崇明 | D152: 31170048 | E152: 工行上海闵行报春路支行
A153: 1 | B153: 优秀站点 | C153: 崇明 | D153: 31170110 | E153: 工行长宁安龙路支行
A154: 3 | B154: 优秀站点 | C154: 崇明 | D154: 31170111 | E154: 工商银行崇明支行

Sheet Sheet1
B1: 投注站编号 | C1: 地址
B2: 31010003 | C2: 人民广场地铁华盛街1113柜台
B3: 31010004 | C3: 武胜路507号近重庆北路
B4: 31010005 | C4: 大沽路161号
B5: 31010006 | C5: 新昌路113号
B6: 31010009 | C6: 合肥路578号
B7: 31010012 | C7: 浙江中路123号
B8: 31010014 | C8: 淡水路304号
B9: 31010015 | C9: 黄河路239号
B10: 31010016 | C10: 普安路（金陵路）北侧彩票亭
B11: 31010017 | C11: 陆家浜路1067号
B12: 31010019 | C12: 江西中路246号102室
B13: 31010020 | C13: 四川中路625号
... B2822: 31170160 | C2822: 金淼路759弄55号103室
